Workbook
Name Introduction___B1_D1: Summary!$D$2

Sheet Introduction 
A1: About Time Budgeting | C1: Type Your Name | F1: DRAFT
A2: We value what we measure and we measure what we value. You value your time. Measure it.
A3: Wise financial management requires a budget and a simple way to record expenses. Regretfully, few of us budget how or where we spent our time. The result is that most of us are too busy, rushed, and overloaded. Here we will help you budget your time. There is only one basic difference, in time budgeting; there are no credit cards and no bank loans. You are only allowed to spend what you get each week.
A4: Similar to financial budgeting here we will create two key categories:
A5: 1) YOUR PRIVATE LIFE focuses on your personal Physical, Emotional and Spiritual wellbeing
A6: 2) YOUR PUBLIC LIFE covers three types of paid or unpaid roles you play at work, at home or in your community.
A7: Estimate the time you presently spend. | B7: USING THIS TOOL: In budgeting your time consider an average week not the exceptions.
B8: a) DESIRED BUDGET: Based on the above diagram, in the table below you budget how you wish to spend this time.
B9: b) PRIVATE and PUBLIC sheets: Here enter ESTIMATES of where you normally spend your time.
B10: c) SUMMARY sheet: This provides comparison diagrams helping you see where you need to make adjustments.
B11: d) WEEKLY BUDGET sheet: Here you plan for what you hope to do and when
B12: NOTE: After entering your desired budget, use the cells on the far left to enter the average time you presently spend. This will update the time stewardship chart. As you become familiar with this tool, can go back and enhance your input. | I12: TIMS STWARTSHIP
B13: Budgeting your seven day week you have only 168 hours a week (24X7). | E13: 168 | F13: Hours | I13: Desired Hrs / WK | J13: Present Hrs / Wk | K13: Difference Hrs/ Wk
A14: 50 | B14: ABOUT SLEEP: Before you budget time for your private and public life you must prioritize your sleep time. Sleep is the most important part of your day. How many hours a week do you need for sleep? | C14: 56 | D14: Balance to be budgeted | F14: =E13-C14 -> 112 | H14: Sleep Time | I14: =C14 -> 56 | J14: =A14 -> 50 | K14: =I14-J14 -> 6
A15: =A16+A17+A18+A19 -> 40 | B15: PRIVATE LIFE: You can not give what you do not have prioritize your wellbeing. Enter HOURS per week you should dedicate to develop your wellbeing in the flowing areas: | E15: =E16+E17+E18 -> 40 | F15: =E15/F14 -> 0.35714286 | H15: Spiritual Renewal | I15: =E16 -> 10 | J15: =A16 -> 9 | K15: =I15-J15 -> 1
A16: 9 | B16: 1) Spiritual renewal - focuses on your relationship with God, for example, prayer, Bible study, church, and corporate workshop … | E16: 10 | F16: =E16/E15 -> 0.25 | H16: Physical Wellness | I16: =E17 -> 14 | J16: =A17 -> 15 | K16: =I16-J16 -> -1
A17: 15 | B17: 2) Physical wellness includes hygiene, meals, exercise, shopping, and laundry … | E17: 14 | F17: =E17/E15 -> 0.35 | H17: Emotional Wellbeing | I17: =E18 -> 16 | J17: =A18 -> 10 | K17: =I17-J17 -> 6
A18: 10 | B18: 3) Emotional wellbeing includes reading, music, fun with family, friends, holidays… | E18: 16 | F18: =E18/E15 -> 0.4 | H18: Family Needs | I18: =E19 -> 6 | J18: =A19 -> 6 | K18: =I18-J18 -> 0
A19: 6 | B19: Family Needs: How many hours should you dedicate to your non-negotiable family life obligations? | E19: 6 | F19: =E19/F14 -> 0.053571429 | H19: Doing Work | I19: =F21 -> 26.4 | J19: =$A$20*A21 -> 27.3 | K19: =I19-J19 -> -0.9
A20: =E13-A14-A16-A17-A18-A19 -> 78 | B20: PUBLIC LIFE: The balance is the time you can invest in roles you play in your public life. Enter the % of time you allocate to each of the following three categories: | E20: =F20/F14 -> 0.58928571 | F20: =F14-E15-E19 -> 66 | H20: Equipping others | I20: =F22 -> 19.8 | J20: =$A$20*A22 -> 21.84 | K20: =I20-J20 -> -2.04
A21: 0.35 | B21: 1) PROJECTS: Doing Work: This is the area where you are expected to perform specific tasks and you are accountable to deliver specific outcomes, for example, preparing a sermon, doing maintenance, event planning, bookkeeping, and visiting the sick … | E21: 0.4 | F21: =F20*E21 -> 26.4 | H21: Administration | I21: =F23 -> 19.8 | J21: =$A$20*A23 -> 28.86 | K21: =I21-J21 -> -9.06
A22: 0.28 | B22: 2) RELATIONAL: Equipping Others for Work: Your value contribution is directly related to how you influence someone else to do good work and deliver good results, for example, coaching, overseeing … | E22: 0.3 | F22: =F20*E22 -> 19.8 | I22: =SUM(I14:I21) -> 168 | J22: =SUM(J14:J21) -> 168 | K22: =SUM(K14:K21) -> 0
A23: =1-(A21+A22) -> 0.37 | B23: 3) Administration of Work: Administration and management are often in response to the complexity of our daily life, for example, managing finances, managing people and checking employee reports, filing and updating records… | E23: =1-(E21+E22) -> 0.3 | F23: =F20*E23 -> 19.8
B24: Note, calculated cells are tan filled.
B27: About the following sheets.
B28: The following sheets are used to creating integrated balanced living. This model seeks to balance what energizes you and what drains you. Click here to learn more.
B29: PRIVATE LIFE: The objective is to set realistic expectations. We do this by comparing your budget input to where you have been spending your time. Here we try to look back and recording where you have been spending your time. You will do this by examining your past diaries or reflecting on where you normally spend your days. Enter as much detail as realistically possible. DO NOT BE OVERELY ANALYTICAL. As you learn more you can adjust your entries.
B30: PUBLIC SHEET: We do this by comparing your budget input to where you have been spending your time. Here you look back and record where you have been spending your time. You will do this by examining past diaries and/or reflecting on where you normally spend your days. Enter as much detail as realistically possible. DO NOT BE OVERELY ANALYTICAL. As you learn more you can adjust your entries. Later using the sporting power of Excel this can serve as great thinking and planning tool.
B31: REMINDER: Be sure to convert these into weekly estimates. (Note: included data are only examples)
B32: SUMMARY SHEET: Using the power of Excel this sheet gives you diagrams to compare your input and where you need to make changes.
B33: WEELY BUDGET SHEET: Using the estimates you created in the introduction sheet this sheet will help you illustrate where you plan to do what and when. On the left side start by listing the various areas where you will spend your time. For every day of the week list what you hope to do when.
B34: Please note: This is NOT a time management tool. This is a time budget tool. It's purpose is to guide you but NOT Control you.
B35: THIS DOCUMENT IS A DRAFT - PLEASE FORGIVE ANY MISSPELLINGS OR IMPERFECTIONS.

Sheet Weekly Budget
A1: My Week Budget | C1: Week of | D1: Jan XX-1X | G1: For | H1: Your Name
A2: Categories and Details | B2: Time | C2: Mon | D2: Tue | E2: Wed | F2: Thu | G2: Fri | H2: Sat | I2: Sun
A3: PRIVATE LIFE | B3: 6 | C3: Fitness | D3: Fitness | E3: Fitness | F3: Fitness | G3: Fitness | H3: Fitness | I3: Fitness
A4: Spiritual | B4: 30 | C4: Pray & Reading | D4: Pray & Reading | E4: Pray & Reading | F4: Pray & Reading | G4: Pray & Reading | H4: Pray & Reading | I4: Pray & Reading
A5: Physical | B5: 7
A6: Emotional | B6: 30
B7: 8 | C7: e-Mail | D7: e-Mail | E7: e-Mail | F7: e-Mail | G7: e-Mail | H7: e-Mail
B8: 30 | C8: Weekly Planning
B9: 9
A10: PUBLIC LIFE | B10: 30 | C10: Expenses | D10: Admin | E10: Billing / AR | F10: Ministry Plan | K10: Create a picture of how you wish to spend your week.
A11: RELATIONAL: Equipping Others | B11: 10 | C11: Adam | G11: Team
A12: Adam | B12: 30 | H12: Home & Yard | I12: Worship
A13: Eve | B13: 11 | C13: Eve
A14: Kam | B14: 30
A15: Coaching Group | B15: 12 | C15: Kam
B16: 30
B17: 1 | C17: Team | D17: New Book | E17: Admin | F17: Mission Trip
B18: 30 | G18: Adam
B19: 2
B20: 30
A21: PROJECTS: Doing Work | B21: 3 | C21: Office Reno
A22: Ministry Plan | B22: 30
A23: Preaching and teaching | B23: 4
A24: Mission Trip | B24: 30
A25: Visiting needy people | B25: 5
B26: 30 | C26: Fitness Gym
B27: 6 | C27: Family dinner
A28: Operation and Administration | B28: 30
A29: E-Mail | B29: 7
A30: Filing and Budgeting | B30: 30
A31: Expenses | B31: 8 | C31: Volunteering | F31: Date night | H31: Friends Night
A32: Administration | B32: 30 | C32: Task 1
B33: 9
B34: 30 | D34: Reading
B35: 10
A36: For more on how to use this tool get the FREE BOOK "Life Plans" http://estore.strengthsworkshop.ca/product/lp-ebook

Sheet PRIVATE
A1: PRIVATE LIFE TIME
A2: Replenish time is the area where you restore three aspects of your personal life. In the following table enter your tasks or responsibilities based on the following indicators:
A3: Frequency: How often do you do these activities? Some activities you do daily =D, weekly =W, Monthly =M annually or other times =O. For calculation purposes and to be consistent with your budget, adjust these to an average hours per week. Code these accordingly (D,W,M,A,O).
A4: Love Hate Indicator: Do you love or hate this activity? In the love hate cell enter (3) if you love it, (1) if you hate it, and (2) if you neither love it or hate it. Note cell color will change to reflect your input.
A5: Time spent by Category: Enter the estimated hours per week that you spend in Spiritual Renewals, Physical Renewal, Work or Emotional Renewal.
A6: Total Replenish Time Budgeted and Spent | B6: =D6+E6+F6 -> 44.1 | C6: ='Introduction '!E15 -> 40 | D6: =SUM(D9:D200) -> 8.6 | E6: =SUM(E9:E200) -> 18 | F6: =SUM(F9:F200) -> 17.5 | H6: Input actual activities where you presently spend your time.
A7: Task or Activities | B7: Category | D7: Time Spent
B8: Love Hate 3, 2, 1 | C8: Frequency D,W,M,A,O | D8: SPIRITUAL | E8: PHYSICAL | F8: EMOTIONAL
A9: Personal planning | B9: 2 | C9: D | D9: 1 | E9: 0.5
A10: Reflection meditation | B10: 3 | C10: M | D10: 0.3 | F10: 0.5
A11: Prayer | B11: 2 | C11: W | D11: 0.3
A12: Fun with children | B12: 2 | C12: A | F12: 2
A13: Bible reading | B13: 3 | C13: D | D13: 2 | F13: 1
A14: Laundry | B14: 1 | C14: W | E14: 2
A15: Hygiene and meals | B15: 3 | C15: D | E15: 10
A16: Personal finance management (2 hours a month) | B16: 1 | C16: M | F16: 0.5
A17: Shopping (2 hours a month) | B17: 1 | C17: O | E17: 0.5 | F17: 0.5
A18: Physical fitness - Gym ( 1 hour 3 times a week + Commute) | B18: 2 | C18: O | E18: 3
A19: Church - corporate workshop | B19: 2 | C19: A | D19: 3
A20: My small group - Study Group | B20: 2 | C20: W | D20: 2 | F20: 1
A21: Time with extended family | B21: 2 | C21: M | F21: 3
A22: Love Time with spouse | B22: 3 | C22: D | F22: 3
A23: Fun Time with friends | B23: 3 | C23: W | F23: 2
A24: Watching TV news | B24: 3 | C24: D | F24: 4
A25: Grocery shopping | B25: 1 | C25: W | E25: 2
A30: PLEASE NOTE: The above data is for example only.

Sheet PUBLIC
A1: PUBLIC LIFE TIME
A2: Public time, paid or unpaid, is the time where you give your energy and talents in three areas. In the following table, enter your tasks or responsibilities based on the following indicators:
A3: Frequency: How often do you do these activities? Some activities you do daily =D, weekly =W, Monthly =M, annually or other times =O. For calculation purposes and to be consistent with your budget, adjust these to an average hours per week. Code these accordingly (D,W,M,A,O).
A4: Love Hate Indicator: Do you love or hate this activity? In the love hate cell enter (3) if you love it (1) if you hate it, and (2) if you neither love it or hate it. Note cell color will change to reflect your input.
A5: Time spent by Category: Enter the estimated hours per week that you spend in DOING work, Equipping Others for work, COAHING and Overseeing and or other ADMINSTRAION.
A6: Work Priority: Do you have to do this? Indicate: I = Must do it myself, D = May delegate it or outsource it, S = Can stop doing it. Code this as I,D,S.
A7: Total WORK Time Budget to spent | B7: =D7+E7+F7 -> 65.6 | C7: ='Introduction '!F20 -> 66 | D7: =SUM(D10:D200) -> 36.9 | E7: =SUM(E10:E200) -> 6.5 | F7: =SUM(F10:F200) -> 22.2 | G7: * I D S | I7: Input roles and responsibilities where you presently spend your time.
A8: Public Life Roles & Responsibilities | B8: Categories | D8: Time Spent
B9: Love Hate 3 ,2, 1 | C9: Frequency D,W,M,A,O | D9: DOING | E9: COACHIN | F9: ADMIN
A10: Local prayer Breakfast (6 meeting a year 15 hours) | B10: 2 | C10: D | D10: 0.3 | G10: S
A11: Annual Staff retreat (4 Days year) | B11: 3 | C11: W | D11: 1 | E11: 0 | G11: D
A12: Reply to text messages | B12: 1 | C12: M | D12: 1.5 | G12: I
A13: Commute to work ( one hour each way) | B13: 1 | C13: A | D13: 1 | G13: I
A14: Do email | B14: 2 | C14: D | F14: 3.5 | G14: I
A15: Text messaging | B15: 1 | C15: M | F15: 0.5 | G15: S
A16: Returning phone calls | B16: 2 | C16: A | D16: 2.2 | G16: S
A17: Creating church news letter | B17: 1 | C17: o | F17: 1 | G17: I
A18: Doing church finances | B18: 1 | C18: M | D18: 0.2 | F18: 0.2 | G18: D
A19: Finance committee meeting | B19: 1 | C19: M | F19: 1.5 | G19: I
A20: Regional Pastoral meetings | B20: 2 | C20: A | F20: 2 | G20: S
A21: Mission Committee meeting | B21: 2 | C21: D | F21: 1.5 | G21: D
A22: Community outreach meeting | B22: 3 | C22: M | F22: 1.5 | G22: D
A23: Church leadership meeting | B23: 3 | C23: M | E23: 1.5 | G23: I
A24: Counseling | B24: 1 | C24: O | D24: 2.5 | G24: I
A25: Janitorial and Maintenance oversight | B25: 1 | C25: O | F25: 1 | G25: D
A26: Visitation: Hospital and nursing home | B26: 1 | C26: M | D26: 2.5 | G26: I
A27: Weddings (4 per year) | B27: 3 | C27: M | D27: 2 | G27: S
A28: Funerals (3 Year) | B28: 3 | C28: A | D28: 1 | G28: D
A29: Local community events | B29: 3 | C29: D | D29: 1 | G29: D
A30: Creating news bulletin | B30: 1 | C30: M | F30: 2 | G30: I
A31: Doing expense reports | B31: 1 | C31: M | F31: 1 | G31: I
A32: Staff meeting | B32: 1 | C32: O | D32: 1 | E32: 1 | F32: 1 | G32: D
A33: Planning church activities | B33: 2 | C33: O | F33: 1.5 | G33: I
A34: Sermon Rehearsing | B34: 2 | C34: M | D34: 1 | G34: S
A35: Preparing Sunday worship songs | B35: 2 | C35: M | D35: 0.5 | G35: D
A36: Sermon Preparation | B36: 3 | C36: A | D36: 10 | F36: 1.5 | G36: D
A37: Preaching and leading worship | B37: 3 | C37: D | D37: 2.5 | F37: 1.5 | G37: I
A38: Coaching One on one with church leaders (Andrew, Kay, Joe) | B38: 3 | C38: M | D38: 3.5 | E38: 1 | G38: I
A39: Staff coaching and oversight (Jim, Sally, Mat) | B39: 3 | C39: a | D39: 3.2 | E39: 3 | F39: 1 | G39: I
A47: PLEASE NOTE: the above data as for example only

Sheet Summary
A2: About Your Time Summary | D2: Type Your Name | F2: Printed on | G2: Date
A3: This compares planned hours from the introduction page and actual hours from work and replenish pages.
A4: After deducting your planned sleep hours, the hours your spend in work and replenish activities are | G4: ='Introduction '!F14 -> 112
A5: Data | B5: Percentage | E5: Hours
B6: Actual | C6: Planned | D6: Difference | E6: Actual | F6: Planned | G6: Difference | K6: Time Spent | L6: Actual %
A7: Doing work | B7: =E7/E13 -> 0.5625 | C7: ='Introduction '!E21 -> 0.4 | D7: =C7-B7 -> -0.1625 | E7: =PUBLIC!D7 -> 36.9 | F7: ='Introduction '!F21 -> 26.4 | G7: =F7-E7 -> -10.5 | K7: Coaching | L7: =B8*$B$13 -> 0.058035714
A8: Coaching | B8: =E8/E13 -> 0.099085366 | C8: ='Introduction '!E22 -> 0.3 | D8: =C8-B8 -> 0.20091463 | E8: =PUBLIC!E7 -> 6.5 | F8: ='Introduction '!F22 -> 19.8 | G8: =F8-E8 -> 13.3 | K8: Administration | L8: =B9*$B$13 -> 0.19821429
A9: Administration | B9: =E9/E13 -> 0.33841463 | C9: ='Introduction '!E23 -> 0.3 | D9: =C9-B9 -> -0.038414634 | E9: =PUBLIC!F7 -> 22.2 | F9: ='Introduction '!F23 -> 19.8 | G9: =F9-E9 -> -2.4 | K9: Spiritual Vitality | L9: =+B10*$B$14 -> 0.076785714
A10: Spiritual Vitality | B10: =E10/E14 -> 0.19501134 | C10: ='Introduction '!F16 -> 0.25 | D10: =C10-B10 -> 0.054988662 | E10: =PRIVATE!D6 -> 8.6 | F10: ='Introduction '!E16 -> 10 | G10: =F10-E10 -> 1.4 | K10: Emotional wellbeing | L10: =+B12*$B$14 -> 0.15625
A11: Physical Wellness | B11: =E11/E14 -> 0.40816327 | C11: ='Introduction '!F17 -> 0.35 | D11: =C11-B11 -> -0.058163265 | E11: =PRIVATE!E6 -> 18 | F11: ='Introduction '!E17 -> 14 | G11: =F11-E11 -> -4 | L11: total
A12: Emotional Wellbeing | B12: =E12/E14 -> 0.3968254 | C12: ='Introduction '!F18 -> 0.4 | D12: =C12-B12 -> 0.0031746032 | E12: =PRIVATE!F6 -> 17.5 | F12: ='Introduction '!E18 -> 16 | G12: =F12-E12 -> -1.5 | I12: Compare your budget or desired state to your actual state or where you presntely spend your time.
A13: Hours at work | B13: =E13/G4 -> 0.58571429 | C13: ='Introduction '!E20 -> 0.58928571 | D13: =C13-B13 -> 0.0035714286 | E13: =PUBLIC!B7 -> 65.6 | F13: ='Introduction '!F20 -> 66 | G13: =F13-E13 -> 0.4 | K13: =L13-E33-F33-G33 -> 0 | L13: =E7 -> 36.9
A14: Hours to replenish | B14: =E14/G4 -> 0.39375 | C14: ='Introduction '!F15 -> 0.35714286 | D14: =C14-B14 -> -0.036607143 | E14: =PRIVATE!B6 -> 44.1 | F14: ='Introduction '!E15 -> 40 | G14: =F14-E14 -> -4.1 | K14: =L14-E34-F34-G34 -> 0 | L14: =E8 -> 6.5
A15: This chart presents the difference between actual and planned. | E15: =E13+E14 -> 109.7 | F15: =F13+F14 -> 106 | G15: =F15-E15 -> -3.7 | K15: =L15-E35-F35-G35 -> 0 | L15: =E9 -> 22.2
F16: Note | K16: =L16-E36-F36-G36 -> 0 | L16: =E10 -> 8.6
F17: Hours for work are divided into Doing work, Coaching and overseeing others, and Administration | K17: =L17-E37-F37-G37 -> 2 | L17: =E11 -> 18
K18: =L18-E38-F38-G38 -> 0 | L18: =E12 -> 17.5
K19: =L19-E39-F39-G39 -> 0 | L19: =E13 -> 65.6
K20: =L20-E40-F40-G40 -> 2 | L20: =E14 -> 44.1
F23: Hours to Replenish are divided into Spiritual vitality, Physical wellness & emotional wellbeing
A30: Love Hate Summary data is calculated from your input on the Work and Replenish pages.
A31: Data | B31: Percentage | E31: Hours
B32: Love it | C32: Neither | D32: Hate it | E32: Love it | F32: Neither | G32: Hate it
A33: Doing work | B33: =E33/L13 -> 0.65582656 | C33: {=F33/L13} -> 0.10840108 | D33: =G33/L13 -> 0.23577236 | E33: {=SUM(IF(PUBLIC!$B$10:$B$39=3,PUBLIC!$D$10:$D$39,0))} -> 24.2 | F33: {=SUM(IF(PUBLIC!$B$10:$B$39=2,PUBLIC!$D$10:$D$39,0))} -> 4 | G33: {=SUM(IF(PUBLIC!$B$10:$B$39=1,PUBLIC!$D$10:$D$39,0))} -> 8.7
A34: Coaching | B34: =E34/L14 -> 0.84615385 | C34: =F34/L14 -> 0 | D34: =G34/L14 -> 0.15384615 | E34: {=SUM(IF(PUBLIC!$B$10:$B$39=3,PUBLIC!$E$10:$E$39,0))} -> 5.5 | F34: {=SUM(IF(PUBLIC!$B$10:$B$39=2,PUBLIC!$E$10:$E$39,0))} -> 0 | G34: {=SUM(IF(PUBLIC!$B$10:$B$39=1,PUBLIC!$E$10:$E$39,0))} -> 1
A35: Administration | B35: =E35/L15 -> 0.24774775 | C35: =F35/L15 -> 0.38288288 | D35: =G35/L15 -> 0.36936937 | E35: {=SUM(IF(PUBLIC!$B$10:$B$39=3,PUBLIC!$F$10:$F$39,0))} -> 5.5 | F35: {=SUM(IF(PUBLIC!$B$10:$B$39=2,PUBLIC!$F$10:$F$39,0))} -> 8.5 | G35: {=SUM(IF(PUBLIC!$B$10:$B$39=1,PUBLIC!$F$10:$F$39,0))} -> 8.2
A36: Spiritual Vitality | B36: =E36/L16 -> 0.26744186 | C36: =F36/L16 -> 0.73255814 | D36: =G36/L16 -> 0 | E36: {=SUM(IF(PRIVATE!$B$9:$B$24=3,PRIVATE!$D$9:$D$24,0))} -> 2.3 | F36: {=SUM(IF(PRIVATE!$B$9:$B$24=2,PRIVATE!$D$9:$D$24,0))} -> 6.3 | G36: {=SUM(IF(PRIVATE!$B$9:$B$24=1,PRIVATE!$D$9:$D$24,0))} -> 0
A37: Physical wellness | B37: =E37/L17 -> 0.55555556 | C37: =F37/L17 -> 0.19444444 | D37: =G37/L17 -> 0.13888889 | E37: {=SUM(IF(PRIVATE!$B$9:$B$24=3,PRIVATE!$E$9:$E$24,0))} -> 10 | F37: {=SUM(IF(PRIVATE!$B$9:$B$24=2,PRIVATE!$E$9:$E$24,0))} -> 3.5 | G37: {=SUM(IF(PRIVATE!$B$9:$B$24=1,PRIVATE!$E$9:$E$24,0))} -> 2.5
A38: Emotional wellbeing | B38: =E38/L18 -> 0.6 | C38: =F38/L18 -> 0.34285714 | D38: =G38/L18 -> 0.057142857 | E38: {=SUM(IF(PRIVATE!$B$9:$B$24=3,PRIVATE!$F$9:$F$24,0))} -> 10.5 | F38: {=SUM(IF(PRIVATE!$B$9:$B$24=2,PRIVATE!$F$9:$F$24,0))} -> 6 | G38: {=SUM(IF(PRIVATE!$B$9:$B$24=1,PRIVATE!$F$9:$F$24,0))} -> 1
A39: Hours at work | B39: =E39/L19 -> 0.53658537 | C39: =F39/L19 -> 0.19054878 | D39: =G39/L19 -> 0.27286585 | E39: =+E33+E34+E35 -> 35.2 | F39: =+F33+F34+F35 -> 12.5 | G39: =+G33+G34+G35 -> 17.9
A40: Hours to replenish | B40: =E40/L20 -> 0.5170068 | C40: =F40/L20 -> 0.35827664 | D40: =G40/L20 -> 0.079365079 | E40: =SUM(E36:E38) -> 22.8 | F40: =SUM(F36:F38) -> 15.8 | G40: =SUM(G36:G38) -> 3.5
F42: Note
F43: Hours for work are divided into doing work, coaching and overseeing others, and administration.
F48: Hours to Replenish are divided into Spiritual vitality, Physical wellness & emotional wellbeing.
A56: Supporting Totals
A58: This chart show the percent distribution of 168 hours spent in 6 categories in the corresponding love hate color
A59: Percent of Time Spent at Work | B59: Doing work | D59: Coaching and Oversight | F59: Administration
B60: Love it | C60: =D68 -> 0.21607143 | D60: Love it | E60: =D71 -> 0.020535714 | F60: Love it | G60: =D74 -> 0.035714286
B61: Neither | C61: =D69 -> 0.049107143 | D61: Neither | E61: =D72 -> 0.089285714 | F61: Neither | G61: =D75 -> 0
B62: Hate it | C62: =D70 -> 0.049107143 | D62: Hate it | E62: =D73 -> 0.09375 | F62: Hate it | G62: =D76 -> 0.075892857
...

Sheet Sheet1
